BEGIN:VCALENDAR
VERSION:2.0
PRODID:-//hacksw/handcal//NONSGML v1.0//EN
CALSCALE:GREGORIAN
BEGIN:VEVENT
SUMMARY:Closed discussion: &#8220\;The Challenges for the Atlantic Alliance in view of the 2018 Summit &#8220\;
DESCRIPTION:
DTSTART:20180202T090000Z
DTEND:20180201T220000Z
LOCATION:ELIAMEP's Οffices 
49\, Vasilissis Sofias Ave. 
106 76 Athens
URL;VALUE=URI:https://www.eliamep.gr/en/event/%ce%ba%ce%bb%ce%b5%ce%b9%cf%83%cf%84%ce%ae-%cf%83%cf%85%ce%bd%ce%ac%ce%bd%cf%84%ce%b7%cf%83%ce%b7-%ce%bf%ce%b9-%cf%80%cf%81%ce%bf%ce%ba%ce%bb%ce%ae%cf%83%ce%b5%ce%b9%cf%82-%ce%b3%ce%b9%ce%b1/
DTSTAMP:20211127T092030Z
UID:61a1f85eee34f
END:VEVENT
END:VCALENDAR