BEGIN:VCALENDAR
VERSION:2.0
PRODID:-//hacksw/handcal//NONSGML v1.0//EN
CALSCALE:GREGORIAN
BEGIN:VEVENT
SUMMARY:Roundtable discussion with Mr. Jan Kickert\, Director General for Political Affairs at the Austrian Ministry for Foreign Affairs\, 19/10/2012
DESCRIPTION:
DTSTART:20121018T210000Z
DTEND:20121018T210000Z
LOCATION:
URL;VALUE=URI:https://www.eliamep.gr/en/event/%ce%ba%ce%bb%ce%b5%ce%b9%cf%83%cf%84%ce%ae-%cf%83%cf%85%ce%bd%ce%ac%ce%bd%cf%84%ce%b7%cf%83%ce%b7-%ce%bc%ce%b5-%ce%ba-jan-kickert-%cf%80%ce%bf%ce%bb%ce%b9%cf%84%ce%b9%ce%ba%cf%8c-%ce%b4%ce%b9%ce%b5/
DTSTAMP:20211127T090118Z
UID:61a1f3de8c9de
END:VEVENT
END:VCALENDAR