BEGIN:VCALENDAR
VERSION:2.0
PRODID:-//hacksw/handcal//NONSGML v1.0//EN
CALSCALE:GREGORIAN
BEGIN:VEVENT
SUMMARY:Roundtable Discussion: &#8220\;Coalitions\, Power and Preferences &#8211\; Mapping EU Member State Interaction&#8221\;\, 23 February 2016
DESCRIPTION:
DTSTART:20160222T220000Z
DTEND:20211126T220000Z
LOCATION:ELIAMEP’s offices
URL;VALUE=URI:https://www.eliamep.gr/en/event/%ce%ba%ce%bb%ce%b5%ce%b9%cf%83%cf%84%ce%ae-%cf%83%cf%85%ce%b6%ce%ae%cf%84%ce%b7%cf%83%ce%b7-coalitions-power-and-preferences-mapping-eu-member-state-interaction-23-%cf%86%ce%b5%ce%b2/
DTSTAMP:20211127T092043Z
UID:61a1f86bb7036
END:VEVENT
END:VCALENDAR