BEGIN:VCALENDAR
VERSION:2.0
PRODID:-//hacksw/handcal//NONSGML v1.0//EN
CALSCALE:GREGORIAN
BEGIN:VEVENT
SUMMARY:Roundtable discussion: &#8216\;Managing government and policy reform in hard times: the Canadian experience΄\, 15/05/2013
DESCRIPTION:
DTSTART:20130514T210000Z
DTEND:20130514T210000Z
LOCATION:
URL;VALUE=URI:https://www.eliamep.gr/en/event/%ce%ba%ce%bb%ce%b5%ce%b9%cf%83%cf%84%ce%ae-%cf%83%cf%85%ce%b6%ce%ae%cf%84%ce%b7%cf%83%ce%b7-%cf%85%ce%bb%ce%bf%cf%80%ce%bf%ce%af%ce%b7%cf%83%ce%b7-%ce%bc%ce%b5%cf%84%ce%b1%cf%81%cf%81%cf%85/
DTSTAMP:20211127T090056Z
UID:61a1f3c8a3610
END:VEVENT
END:VCALENDAR