BEGIN:VCALENDAR
VERSION:2.0
PRODID:-//hacksw/handcal//NONSGML v1.0//EN
CALSCALE:GREGORIAN
BEGIN:VEVENT
SUMMARY:Roundtable Discussion: &#8220\;China’s new Silk Road and Greece’s possible role&#8221\;\, 04/04/2016
DESCRIPTION:
DTSTART:20160403T210000Z
DTEND:20160403T210000Z
LOCATION:ELIAMEP’ s offices
URL;VALUE=URI:https://www.eliamep.gr/en/event/%ce%ba%ce%bb%ce%b5%ce%b9%cf%83%cf%84%ce%ae-%cf%83%cf%85%ce%b6%ce%ae%cf%84%ce%b7%cf%83%ce%b7-%ce%bf-%ce%bd%ce%ad%ce%bf%cf%82-%ce%b4%cf%81%cf%8c%ce%bc%ce%bf%cf%82-%cf%84%ce%bf%cf%85-%ce%bc%ce%b5/
DTSTAMP:20211127T092019Z
UID:61a1f8538cf2f
END:VEVENT
END:VCALENDAR