BEGIN:VCALENDAR
VERSION:2.0
PRODID:-//hacksw/handcal//NONSGML v1.0//EN
CALSCALE:GREGORIAN
BEGIN:VEVENT
SUMMARY:Roundtable discussion: &#8216\;The relations between Greece and FYROM&#8217\;\, 22/10/2016
DESCRIPTION:
DTSTART:20161020T210000Z
DTEND:20161020T210000Z
LOCATION:
URL;VALUE=URI:https://www.eliamep.gr/en/event/%ce%ba%ce%bb%ce%b5%ce%b9%cf%83%cf%84%ce%ae-%cf%83%cf%85%ce%b6%ce%ae%cf%84%ce%b7%cf%83%ce%b7-%ce%bf%ce%b9-%cf%83%cf%87%ce%ad%cf%83%ce%b5%ce%b9%cf%82-%ce%b5%ce%bb%ce%bb%ce%ac%ce%b4%ce%b1%cf%82/
DTSTAMP:20211127T092029Z
UID:61a1f85ded91e
END:VEVENT
END:VCALENDAR