BEGIN:VCALENDAR
VERSION:2.0
PRODID:-//hacksw/handcal//NONSGML v1.0//EN
CALSCALE:GREGORIAN
BEGIN:VEVENT
SUMMARY:Roundtable discussion with Foreign Minister of Kosovo\, Enver Hoxhaj\, 08/03/2013
DESCRIPTION:
DTSTART:20130307T220000Z
DTEND:20130307T220000Z
LOCATION:
URL;VALUE=URI:https://www.eliamep.gr/en/event/%ce%ba%ce%bb%ce%b5%ce%b9%cf%83%cf%84%ce%ae-%cf%83%cf%85%ce%b6%ce%ae%cf%84%ce%b7%cf%83%ce%b7-%ce%bc%ce%b5-%cf%84%ce%bf%ce%bd-%cf%85%cf%80%ce%bf%cf%85%cf%81%ce%b3%cf%8c-%ce%b5%ce%be%cf%89%cf%84%ce%b5/
DTSTAMP:20211127T090119Z
UID:61a1f3df8aff7
END:VEVENT
END:VCALENDAR