BEGIN:VCALENDAR
VERSION:2.0
PRODID:-//hacksw/handcal//NONSGML v1.0//EN
CALSCALE:GREGORIAN
BEGIN:VEVENT
SUMMARY:Roundtable discussion with Professor Leonard Seabrooke\, 30/09/2013
DESCRIPTION:
DTSTART:20130929T210000Z
DTEND:20130929T210000Z
LOCATION:
URL;VALUE=URI:https://www.eliamep.gr/en/event/%ce%ba%ce%bb%ce%b5%ce%b9%cf%83%cf%84%ce%ae-%cf%83%cf%85%ce%b6%ce%ae%cf%84%ce%b7%cf%83%ce%b7-%ce%bc%ce%b5-%cf%84%ce%bf%ce%bd-%ce%ba%ce%b1%ce%b8%ce%b7%ce%b3%ce%b7%cf%84%ce%ae-leonard-seabrooke-300920/
DTSTAMP:20211127T090101Z
UID:61a1f3cd5d6e8
END:VEVENT
END:VCALENDAR