BEGIN:VCALENDAR
VERSION:2.0
PRODID:-//hacksw/handcal//NONSGML v1.0//EN
CALSCALE:GREGORIAN
BEGIN:VEVENT
SUMMARY:Roundtable discussion with the Right Honourable Michaëlle Jean\, 04/11/2013
DESCRIPTION:
DTSTART:20131103T220000Z
DTEND:20131103T220000Z
LOCATION:
URL;VALUE=URI:https://www.eliamep.gr/en/event/%ce%ba%ce%bb%ce%b5%ce%b9%cf%83%cf%84%ce%ae-%cf%83%cf%85%ce%b6%ce%ae%cf%84%ce%b7%cf%83%ce%b7-%ce%bc%ce%b5-%cf%84%ce%b7%ce%bd-%cf%80%cf%81%cf%8e%ce%b7%ce%bd-%ce%b3%ce%b5%ce%bd%ce%b9%ce%ba%ce%ae-%ce%ba/
DTSTAMP:20211127T074959Z
UID:61a1e327d8527
END:VEVENT
END:VCALENDAR