BEGIN:VCALENDAR
VERSION:2.0
PRODID:-//hacksw/handcal//NONSGML v1.0//EN
CALSCALE:GREGORIAN
BEGIN:VEVENT
SUMMARY:Roundtable discussion with the Ambassador of Bulgaria to Greece\, Emilia Kraleva\, 08/04/2013
DESCRIPTION:
DTSTART:20130407T210000Z
DTEND:20130407T210000Z
LOCATION:
URL;VALUE=URI:https://www.eliamep.gr/en/event/%ce%ba%ce%bb%ce%b5%ce%b9%cf%83%cf%84%ce%ae-%cf%83%cf%85%ce%b6%ce%ae%cf%84%ce%b7%cf%83%ce%b7-%ce%bc%ce%b5-%cf%84%ce%b7%ce%bd-%cf%80%cf%81%ce%ad%cf%83%ce%b2%ce%b7-%cf%84%ce%b7%cf%82-%ce%b2%ce%bf%cf%85/
DTSTAMP:20211127T090112Z
UID:61a1f3d810e16
END:VEVENT
END:VCALENDAR