BEGIN:VCALENDAR
VERSION:2.0
PRODID:-//hacksw/handcal//NONSGML v1.0//EN
CALSCALE:GREGORIAN
BEGIN:VEVENT
SUMMARY:Roundtable discussion with Ambassador Dimitrios Moschopoulos\, 21/10/2013
DESCRIPTION:
DTSTART:20131020T210000Z
DTEND:20131020T210000Z
LOCATION:
URL;VALUE=URI:https://www.eliamep.gr/en/event/%ce%ba%ce%bb%ce%b5%ce%b9%cf%83%cf%84%ce%ae-%cf%83%cf%85%ce%b6%ce%ae%cf%84%ce%b7%cf%83%ce%b7-%ce%bc%ce%b5-%cf%84%ce%b7%ce%bd-%cf%80%cf%81%ce%ad%cf%83%ce%b2%ce%b7-%ce%b4%ce%b7%ce%bc%ce%ae%cf%84%cf%81/
DTSTAMP:20211127T090109Z
UID:61a1f3d5dc477
END:VEVENT
END:VCALENDAR