BEGIN:VCALENDAR
VERSION:2.0
PRODID:-//hacksw/handcal//NONSGML v1.0//EN
CALSCALE:GREGORIAN
BEGIN:VEVENT
SUMMARY:Roundtable Discussion: “Houdini” Greece? Reflections on Greek options -seen from Berlin\, Vienna and Ankara- on the eve of Brussels meeting with Davutoglu\, 03/03/2016
DESCRIPTION:
DTSTART:20160302T220000Z
DTEND:20160302T220000Z
LOCATION:ELIAMEP’s offices
URL;VALUE=URI:https://www.eliamep.gr/en/event/%ce%ba%ce%bb%ce%b5%ce%b9%cf%83%cf%84%ce%ae-%cf%83%cf%85%ce%b6%ce%ae%cf%84%ce%b7%cf%83%ce%b7-%ce%bc%ce%b5-%ce%b8%ce%ad%ce%bc%ce%b1-houdini-greece-reflections-on-greek-options-seen/
DTSTAMP:20211127T092007Z
UID:61a1f847eae4a
END:VEVENT
END:VCALENDAR