BEGIN:VCALENDAR
VERSION:2.0
PRODID:-//hacksw/handcal//NONSGML v1.0//EN
CALSCALE:GREGORIAN
BEGIN:VEVENT
SUMMARY:Roundtable Discussion: &#8216\;Security Issues in Europe&#8217\;s Southern Neighborhood and in Southeast Asia: A Comparative Analysis&#8217\;\, 30/11/2015
DESCRIPTION:
DTSTART:20151130T080000Z
DTEND:20151130T110000Z
LOCATION:Divani Caravel
URL;VALUE=URI:https://www.eliamep.gr/en/event/%ce%ba%ce%bb%ce%b5%ce%b9%cf%83%cf%84%ce%ae-%cf%83%cf%85%ce%b6%ce%ae%cf%84%ce%b7%cf%83%ce%b7-%ce%b8%ce%ad%ce%bc%ce%b1%cf%84%ce%b1-%ce%b1%cf%83%cf%86%ce%b1%ce%bb%ce%b5%ce%af%ce%b1%cf%82-%cf%83/
DTSTAMP:20211127T081000Z
UID:61a1e7d8ca146
END:VEVENT
END:VCALENDAR