BEGIN:VCALENDAR
VERSION:2.0
PRODID:-//hacksw/handcal//NONSGML v1.0//EN
CALSCALE:GREGORIAN
BEGIN:VEVENT
SUMMARY:Roundtable discussion: &#8216\;China’s Belt and Road Initiative: Constructing  the Balkan Silk Road&#8217\;
DESCRIPTION:
DTSTART:20170913T210000Z
DTEND:20170913T210000Z
LOCATION:Γραφείο του Ευρωπαϊκού Κοινοβουλίου στην Αθήνα
URL;VALUE=URI:https://www.eliamep.gr/en/event/%ce%ba%ce%bb%ce%b5%ce%b9%cf%83%cf%84%ce%ae-%cf%83%cf%85%ce%b6%ce%ae%cf%84%ce%b7%cf%83%ce%b7-%ce%b7-%cf%80%cf%81%cf%89%cf%84%ce%bf%ce%b2%ce%bf%cf%85%ce%bb%ce%af%ce%b1-%cf%84%ce%b7%cf%82-%ce%ba/
DTSTAMP:20211127T094907Z
UID:61a1ff1354254
END:VEVENT
END:VCALENDAR