BEGIN:VCALENDAR
VERSION:2.0
PRODID:-//hacksw/handcal//NONSGML v1.0//EN
CALSCALE:GREGORIAN
BEGIN:VEVENT
SUMMARY:Roundtable Discussion: “Taiwan’s politics after the election of Tsai Ing-wen and regional security in East Asia”\, 13/05/2016
DESCRIPTION:
DTSTART:20160512T210000Z
DTEND:20160515T210000Z
LOCATION:
URL;VALUE=URI:https://www.eliamep.gr/en/event/%ce%ba%ce%bb%ce%b5%ce%b9%cf%83%cf%84%ce%ae-%cf%83%cf%85%ce%b6%ce%ae%cf%84%ce%b7%cf%83%ce%b7-%ce%b7-%cf%80%ce%bf%ce%bb%ce%b9%cf%84%ce%b9%ce%ba%ce%ae-%cf%84%ce%b7%cf%82-%cf%84%ce%b1%ce%b9%ce%b2/
DTSTAMP:20211127T092018Z
UID:61a1f8524ae17
END:VEVENT
END:VCALENDAR