BEGIN:VCALENDAR
VERSION:2.0
PRODID:-//hacksw/handcal//NONSGML v1.0//EN
CALSCALE:GREGORIAN
BEGIN:VEVENT
SUMMARY:Closed Discussion: &#8220\;The Day after ISIS: Challenges And Opportunities: An Israeli Perspective&#8221\;
DESCRIPTION:
DTSTART:20171122T090000Z
DTEND:20171122T113000Z
LOCATION:ELIAMEP offices (49 Vasilissis Sofias Ave.\, 106 76 Athens)
URL;VALUE=URI:https://www.eliamep.gr/en/event/%ce%ba%ce%bb%ce%b5%ce%b9%cf%83%cf%84%ce%ae-%cf%83%cf%85%ce%b6%ce%ae%cf%84%ce%b7%cf%83%ce%b7-%ce%b7-%ce%b7%ce%bc%ce%ad%cf%81%ce%b1-%ce%bc%ce%b5%cf%84%ce%ac-%cf%84%ce%bf-isis-%cf%80%cf%81%ce%bf/
DTSTAMP:20211127T092029Z
UID:61a1f85d3e3bc
END:VEVENT
END:VCALENDAR