BEGIN:VCALENDAR
VERSION:2.0
PRODID:-//hacksw/handcal//NONSGML v1.0//EN
CALSCALE:GREGORIAN
BEGIN:VEVENT
SUMMARY:Roundtable Discussion: &#8216\;Developments in Iran: Israeli and European Perspectives&#8217\;\, 08/12/2015
DESCRIPTION:
DTSTART:20151207T220000Z
DTEND:20151207T220000Z
LOCATION:Αντιπροσωπεία της Ευρωπαϊκής Επιτροπής στην Ελλάδα
URL;VALUE=URI:https://www.eliamep.gr/en/event/%ce%ba%ce%bb%ce%b5%ce%b9%cf%83%cf%84%ce%ae-%cf%83%cf%85%ce%b6%ce%ae%cf%84%ce%b7%cf%83%ce%b7-%ce%b5%ce%be%ce%b5%ce%bb%ce%af%ce%be%ce%b5%ce%b9%cf%82-%cf%83%cf%84%ce%bf-%ce%b9%cf%81%ce%ac%ce%bd/
DTSTAMP:20211127T092014Z
UID:61a1f84e6d2f4
END:VEVENT
END:VCALENDAR