BEGIN:VCALENDAR
VERSION:2.0
PRODID:-//hacksw/handcal//NONSGML v1.0//EN
CALSCALE:GREGORIAN
BEGIN:VEVENT
SUMMARY:Round table discussion: New Pact for Europe\, 7/5/2015
DESCRIPTION:
DTSTART:20150506T210000Z
DTEND:20150506T210000Z
LOCATION:
URL;VALUE=URI:https://www.eliamep.gr/en/event/%ce%ba%ce%bb%ce%b5%ce%b9%cf%83%cf%84%ce%ae-%cf%83%cf%85%ce%b6%ce%ae%cf%84%ce%b7%cf%83%ce%b7-%ce%b3%ce%b9%ce%b1-%cf%84%ce%b7%ce%bd-%cf%80%ce%b1%cf%81%ce%bf%cf%85%cf%83%ce%af%ce%b1%cf%83%ce%b7-%cf%84/
DTSTAMP:20211127T093729Z
UID:61a1fc591e941
END:VEVENT
END:VCALENDAR