BEGIN:VCALENDAR
VERSION:2.0
PRODID:-//hacksw/handcal//NONSGML v1.0//EN
CALSCALE:GREGORIAN
BEGIN:VEVENT
SUMMARY:Rounbtable Discussion: &#8216\;Geopolitics of Northeast Asia and Eastern Mediterranean: Prospects for Peace and Security&#8217\;\, 27/09/2017
DESCRIPTION:
DTSTART:20170926T210000Z
DTEND:20170926T210000Z
LOCATION:
URL;VALUE=URI:https://www.eliamep.gr/en/event/%ce%ba%ce%bb%ce%b5%ce%b9%cf%83%cf%84%ce%ae-%cf%83%cf%85%ce%b6%ce%ae%cf%84%ce%b7%cf%83%ce%b7-%ce%b3%ce%b5%cf%89%cf%80%ce%bf%ce%bb%ce%b9%cf%84%ce%b9%ce%ba%ce%ad%cf%82-%ce%b5%ce%be%ce%b5%ce%bb/
DTSTAMP:20211127T092039Z
UID:61a1f867df4ab
END:VEVENT
END:VCALENDAR