BEGIN:VCALENDAR
VERSION:2.0
PRODID:-//hacksw/handcal//NONSGML v1.0//EN
CALSCALE:GREGORIAN
BEGIN:VEVENT
SUMMARY:Crisis Observatory organised a closed event on the size of the Public sector in Greece
DESCRIPTION:
DTSTART:20150527T210000Z
DTEND:20150527T210000Z
LOCATION:ΕΛΙΑΜΕΠ
URL;VALUE=URI:https://www.eliamep.gr/en/event/%ce%ba%ce%bb%ce%b5%ce%b9%cf%83%cf%84%ce%ae-%ce%b5%ce%ba%ce%b4%ce%ae%ce%bb%cf%89%cf%83%ce%b7-%cf%84%ce%bf%cf%85-%cf%80%ce%b1%cf%81%ce%b1%cf%84%ce%b7%cf%81%ce%b7%cf%84%ce%b7%cf%81%ce%af%ce%bf%cf%85/
DTSTAMP:20211127T090104Z
UID:61a1f3d088e97
END:VEVENT
END:VCALENDAR