BEGIN:VCALENDAR
VERSION:2.0
PRODID:-//hacksw/handcal//NONSGML v1.0//EN
CALSCALE:GREGORIAN
BEGIN:VEVENT
SUMMARY:&#8220\;Potential &#8216\;Catalonia&#8217\; Crisis&#8221\;
DESCRIPTION:
DTSTART:20171113T070000Z
DTEND:20171113T110000Z
LOCATION:Auditorium of DIKEMES/CYA (5\, Stadiou Square\, Kallimarmaro\, Athens)
URL;VALUE=URI:https://www.eliamep.gr/en/event/%ce%b7-%cf%80%ce%b9%ce%b8%ce%b1%ce%bd%ce%ae-%ce%ba%cf%81%ce%af%cf%83%ce%b7-%cf%83%cf%84%ce%b7%ce%bd-%ce%ba%ce%b1%cf%84%ce%b1%ce%bb%ce%bf%ce%bd%ce%af%ce%b1/
DTSTAMP:20211127T081130Z
UID:61a1e832a656a
END:VEVENT
END:VCALENDAR