BEGIN:VCALENDAR
VERSION:2.0
PRODID:-//hacksw/handcal//NONSGML v1.0//EN
CALSCALE:GREGORIAN
BEGIN:VEVENT
SUMMARY:&#8220\;Europe Facing Multiple Challenges: Media in the Age of the Digital Revolution&#8221\;
DESCRIPTION:
DTSTART:20171127T103000Z
DTEND:20171127T220000Z
LOCATION:Porto Rio Hotel 
Patras\, Greece
URL;VALUE=URI:https://www.eliamep.gr/en/event/%ce%b7-%ce%b5%cf%85%cf%81%cf%8e%cf%80%ce%b7-%ce%b5%ce%bd%cf%8e%cf%80%ce%b9%ce%bf%ce%bd-%cf%80%ce%bf%ce%bb%ce%bb%ce%b1%cf%80%ce%bb%cf%8e%ce%bd-%cf%80%cf%81%ce%bf%ce%ba%ce%bb%ce%ae%cf%83%ce%b5/
DTSTAMP:20211127T081146Z
UID:61a1e842eeca0
END:VEVENT
END:VCALENDAR