BEGIN:VCALENDAR
VERSION:2.0
PRODID:-//hacksw/handcal//NONSGML v1.0//EN
CALSCALE:GREGORIAN
BEGIN:VEVENT
SUMMARY:&#8220\;Athens meets Detroit: The importance of civic engagement and social accountability&#8221\;
DESCRIPTION:
DTSTART:20170925T100000Z
DTEND:20170925T170000Z
LOCATION:Stavros Niarchos Foundation Cultural Center
Book Castle of the National Library of Greece
URL;VALUE=URI:https://www.eliamep.gr/en/event/%ce%b7-%ce%b1%ce%b8%ce%ae%ce%bd%ce%b1-%cf%83%cf%85%ce%bd%ce%b1%ce%bd%cf%84%ce%ac-%cf%84%ce%bf-%ce%bd%cf%84%ce%b9%cf%84%cf%81%cf%8c%ce%b9%cf%84-%ce%b7-%cf%83%ce%b7%ce%bc%ce%b1%cf%83%ce%af%ce%b1/
DTSTAMP:20211127T092034Z
UID:61a1f86209b29
END:VEVENT
END:VCALENDAR