BEGIN:VCALENDAR
VERSION:2.0
PRODID:-//hacksw/handcal//NONSGML v1.0//EN
CALSCALE:GREGORIAN
BEGIN:VEVENT
SUMMARY:The MEDIVA Workshop in Athens\, 29/03/2012
DESCRIPTION:
DTSTART:20120328T210000Z
DTEND:20120328T210000Z
LOCATION:Athens Chamber of Small Industry (18\, Akadimias str.)
URL;VALUE=URI:https://www.eliamep.gr/en/event/%ce%b7%ce%bc%ce%b5%cf%81%ce%af%ce%b4%ce%b1-%cf%80%ce%b1%cf%81%ce%bf%cf%85%cf%83%ce%af%ce%b1%cf%83%ce%b7%cf%82-%ce%b1%cf%80%ce%bf%cf%84%ce%b5%ce%bb%ce%b5%cf%83%ce%bc%ce%ac%cf%84%cf%89%ce%bd-%cf%84/
DTSTAMP:20211127T092223Z
UID:61a1f8cfd0c5b
END:VEVENT
END:VCALENDAR