BEGIN:VCALENDAR
VERSION:2.0
PRODID:-//hacksw/handcal//NONSGML v1.0//EN
CALSCALE:GREGORIAN
BEGIN:VEVENT
SUMMARY:ELIAMEP Annual Lecture 2014
DESCRIPTION:
DTSTART:20141217T220000Z
DTEND:20141217T220000Z
LOCATION:French Institute  in Greece
URL;VALUE=URI:https://www.eliamep.gr/en/event/%ce%b5%cf%84%ce%ae%cf%83%ce%b9%ce%b1-%ce%b4%ce%b9%ce%ac%ce%bb%ce%b5%ce%be%ce%b7-%ce%b5%ce%bb%ce%b9%ce%b1%ce%bc%ce%b5%cf%80-2014-18122014/
DTSTAMP:20211127T094744Z
UID:61a1fec0745f3
END:VEVENT
END:VCALENDAR