BEGIN:VCALENDAR
VERSION:2.0
PRODID:-//hacksw/handcal//NONSGML v1.0//EN
CALSCALE:GREGORIAN
BEGIN:VEVENT
SUMMARY:Working visit of a delegation from Kosovo to Greece\, 20-22/02/2013
DESCRIPTION:
DTSTART:20130219T220000Z
DTEND:20130221T220000Z
LOCATION:
URL;VALUE=URI:https://www.eliamep.gr/en/event/%ce%b5%cf%80%ce%af%cf%83%ce%ba%ce%b5%cf%88%ce%b7-%ce%b5%cf%81%ce%b3%ce%b1%cf%83%ce%af%ce%b1%cf%82-%ce%b1%ce%bd%cf%84%ce%b9%cf%80%cf%81%ce%bf%cf%83%cf%89%cf%80%ce%b5%ce%af%ce%b1%cf%82-%ce%ba%ce%bf/
DTSTAMP:20211127T090115Z
UID:61a1f3db66ae5
END:VEVENT
END:VCALENDAR