BEGIN:VCALENDAR
VERSION:2.0
PRODID:-//hacksw/handcal//NONSGML v1.0//EN
CALSCALE:GREGORIAN
BEGIN:VEVENT
SUMMARY:Presentation to press representatives for the Crisis Observatory\, 12/03/2013
DESCRIPTION:
DTSTART:20130311T220000Z
DTEND:20130311T220000Z
LOCATION:
URL;VALUE=URI:https://www.eliamep.gr/en/event/%ce%b5%ce%bd%ce%b7%ce%bc%ce%ad%cf%81%cf%89%cf%83%ce%b7-%ce%b4%ce%b7%ce%bc%ce%bf%cf%83%ce%b9%ce%bf%ce%b3%cf%81%ce%ac%cf%86%cf%89%ce%bd-%ce%b3%ce%b9%ce%b1-%cf%84%ce%bf-%cf%80%ce%b1%cf%81%ce%b1%cf%84/
DTSTAMP:20211127T090107Z
UID:61a1f3d3127a3
END:VEVENT
END:VCALENDAR