BEGIN:VCALENDAR
VERSION:2.0
PRODID:-//hacksw/handcal//NONSGML v1.0//EN
CALSCALE:GREGORIAN
BEGIN:VEVENT
SUMMARY:&#8220\;New Euro-Mediterranean Dynamics in the Eastern Mediterranean&#8221\;
DESCRIPTION:
DTSTART:20171110T070000Z
DTEND:20171110T153000Z
LOCATION:Representation of the European Union in Athens
Vasilissis Sofias 2\, Athens
URL;VALUE=URI:https://www.eliamep.gr/en/event/%ce%b5%ce%ba%ce%b4%ce%ae%ce%bb%cf%89%cf%83%ce%b7-10-11-2017-%ce%bd%ce%ad%ce%b5%cf%82-%ce%b5%cf%85%cf%81%cf%89-%ce%bc%ce%b5%cf%83%ce%bf%ce%b3%ce%b5%ce%b9%ce%b1%ce%ba%ce%ad%cf%82-%ce%b4%cf%85%ce%bd/
DTSTAMP:20211127T095013Z
UID:61a1ff5516485
END:VEVENT
END:VCALENDAR