BEGIN:VCALENDAR
VERSION:2.0
PRODID:-//hacksw/handcal//NONSGML v1.0//EN
CALSCALE:GREGORIAN
BEGIN:VEVENT
SUMMARY:Euro Summit Simulation\, 9-11 May 2014
DESCRIPTION:
DTSTART:20140508T210000Z
DTEND:20140510T210000Z
LOCATION:"Electra Hotel" (5 Ermou Street\, Syntagma-Athens)
URL;VALUE=URI:https://www.eliamep.gr/en/event/%ce%b4%ce%b9%ce%bf%cf%81%ce%b3%ce%ac%ce%bd%cf%89%cf%83%ce%b7-%cf%80%cf%81%ce%bf%cf%83%ce%bf%ce%bc%ce%bf%ce%af%cf%89%cf%83%ce%b7%cf%82-%cf%84%ce%bf%cf%85-euro-summit-9-11-%ce%bc%ce%b1%ce%90%ce%bf/
DTSTAMP:20211127T090054Z
UID:61a1f3c696f5f
END:VEVENT
END:VCALENDAR