BEGIN:VCALENDAR
VERSION:2.0
PRODID:-//hacksw/handcal//NONSGML v1.0//EN
CALSCALE:GREGORIAN
BEGIN:VEVENT
SUMMARY:Webinar: &#8220\;Energy Security and Climate Change:  Europe’s evolving security dilemma and climate relevant responses&#8221\;
DESCRIPTION:
DTSTART:20200617T133000Z
DTEND:20200617T150000Z
LOCATION:
URL;VALUE=URI:https://www.eliamep.gr/en/event/%ce%b4%ce%b9%ce%b1%ce%b4%ce%b9%ce%ba%cf%84%cf%85%ce%b1%ce%ba%cf%8c-%cf%83%ce%b5%ce%bc%ce%b9%ce%bd%ce%ac%cf%81%ce%b9%ce%bf-energy-security-and-climate-change-europes-evolving-security-dil/
DTSTAMP:20211127T092059Z
UID:61a1f87b13e57
END:VEVENT
END:VCALENDAR