BEGIN:VCALENDAR
VERSION:2.0
PRODID:-//hacksw/handcal//NONSGML v1.0//EN
CALSCALE:GREGORIAN
BEGIN:VEVENT
SUMMARY:Webinar: &#8220\;Cyber Security: Εmerging challenges\, the international context and governmental engagement&#8221\;
DESCRIPTION:
DTSTART:20200618T133000Z
DTEND:20200618T150000Z
LOCATION:
URL;VALUE=URI:https://www.eliamep.gr/en/event/%ce%b4%ce%b9%ce%b1%ce%b4%ce%b9%ce%ba%cf%84%cf%85%ce%b1%ce%ba%cf%8c-%cf%83%ce%b5%ce%bc%ce%b9%ce%bd%ce%ac%cf%81%ce%b9%ce%bf-cyber-security-%ce%b5merging-challenges-the-international-context-and-gov/
DTSTAMP:20211127T092100Z
UID:61a1f87c04a87
END:VEVENT
END:VCALENDAR