BEGIN:VCALENDAR
VERSION:2.0
PRODID:-//hacksw/handcal//NONSGML v1.0//EN
CALSCALE:GREGORIAN
BEGIN:VEVENT
SUMMARY:ELIAMEP-EPC Policy Dialogue: &#8216\;Union\, disunion or time for a paradigm shift?\, 13/07/2016
DESCRIPTION:
DTSTART:20160712T210000Z
DTEND:20160712T210000Z
LOCATION:Brussels
URL;VALUE=URI:https://www.eliamep.gr/en/event/%ce%b4%ce%b9%ce%ac%ce%bb%ce%bf%ce%b3%ce%bf%cf%82-%cf%80%ce%bf%ce%bb%ce%b9%cf%84%ce%b9%ce%ba%ce%ae%cf%82-%ce%b5%ce%bb%ce%b9%ce%b1%ce%bc%ce%b5%cf%80-%ce%b5pc-union-disunion-or-time-for-a-paradig/
DTSTAMP:20211127T095018Z
UID:61a1ff5a9c2e4
END:VEVENT
END:VCALENDAR