BEGIN:VCALENDAR
VERSION:2.0
PRODID:-//hacksw/handcal//NONSGML v1.0//EN
CALSCALE:GREGORIAN
BEGIN:VEVENT
SUMMARY:Lecture by President of Eurogroup and Minister of Finance of the Netherlands\, Jeroen Dijsselbloem\, 31/05/2013
DESCRIPTION:
DTSTART:20130530T210000Z
DTEND:20130530T210000Z
LOCATION:
URL;VALUE=URI:https://www.eliamep.gr/en/event/%ce%b4%ce%b9%ce%ac%ce%bb%ce%b5%ce%be%ce%b7-%cf%84%ce%bf%cf%85-%cf%80%cf%81%ce%bf%ce%ad%ce%b4%cf%81%ce%bf%cf%85-%cf%84%ce%bf%cf%85-eurogroup-%ce%ba%ce%b1%ce%b9-%cf%85%cf%80%ce%bf%cf%85%cf%81%ce%b3/
DTSTAMP:20211127T090056Z
UID:61a1f3c81655b
END:VEVENT
END:VCALENDAR