BEGIN:VCALENDAR
VERSION:2.0
PRODID:-//hacksw/handcal//NONSGML v1.0//EN
CALSCALE:GREGORIAN
BEGIN:VEVENT
SUMMARY:Lecture by Ms Elma Hasimbegovic\, 01/12/2014
DESCRIPTION:
DTSTART:20141201T153000Z
DTEND:20141130T220000Z
LOCATION:office of the Representation of the European Commission in Greece\, 2\, Vassilisis Sofias Ave.
URL;VALUE=URI:https://www.eliamep.gr/en/event/%ce%b4%ce%b9%ce%ac%ce%bb%ce%b5%ce%be%ce%b7-%cf%84%ce%b7%cf%82-%ce%ba%ce%b1%cf%82-%ce%ad%ce%bb%ce%bc%ce%b1-%cf%87%ce%b1%ce%b6%ce%b7%ce%bc%cf%80%ce%ad%ce%b3%ce%ba%ce%bf%ce%b2%ce%b9%cf%84%cf%82-011220/
DTSTAMP:20211127T094747Z
UID:61a1fec35ee86
END:VEVENT
END:VCALENDAR