BEGIN:VCALENDAR
VERSION:2.0
PRODID:-//hacksw/handcal//NONSGML v1.0//EN
CALSCALE:GREGORIAN
BEGIN:VEVENT
SUMMARY:Conference on &#8220\;Greece and Europe in a changing world: Challenges and prospects\, 1 April 2017
DESCRIPTION:
DTSTART:20170401T160000Z
DTEND:20170331T210000Z
LOCATION:Δημοτικό Ωδείο Δράμας
URL;VALUE=URI:https://www.eliamep.gr/en/event/%ce%b4%ce%b7%ce%bc%cf%8c%cf%83%ce%b9%ce%b1-%cf%83%cf%85%ce%b6%ce%ae%cf%84%ce%b7%cf%83%ce%b7-%cf%83%cf%84%ce%b7-%ce%b4%cf%81%ce%ac%ce%bc%ce%b1-%ce%b7-%ce%b5%ce%bb%ce%bb%ce%ac%ce%b4%ce%b1-%ce%ba/
DTSTAMP:20211127T094909Z
UID:61a1ff1535869
END:VEVENT
END:VCALENDAR