BEGIN:VCALENDAR
VERSION:2.0
PRODID:-//hacksw/handcal//NONSGML v1.0//EN
CALSCALE:GREGORIAN
BEGIN:VEVENT
SUMMARY:Public debate: &#8216\;The Political Power of Social Media: Do digital tools enhance democracy?&#8217\; 10/11/2011
DESCRIPTION:
DTSTART:20111110T163000Z
DTEND:20111109T220000Z
LOCATION:Byzantine and Christian Museum\, 22\, Vas. Sophias Ave
URL;VALUE=URI:https://www.eliamep.gr/en/event/%ce%b4%ce%b7%ce%bc%cf%8c%cf%83%ce%b9%ce%b1-%cf%83%cf%85%ce%b6%ce%ae%cf%84%ce%b7%cf%83%ce%b7-%ce%bc%ce%b5-%ce%b8%ce%ad%ce%bc%ce%b1-%ce%b7-%cf%80%ce%bf%ce%bb%ce%b9%cf%84%ce%b9%ce%ba%ce%ae-%ce%b9%cf%83/
DTSTAMP:20211127T090108Z
UID:61a1f3d48f882
END:VEVENT
END:VCALENDAR