BEGIN:VCALENDAR
VERSION:2.0
PRODID:-//hacksw/handcal//NONSGML v1.0//EN
CALSCALE:GREGORIAN
BEGIN:VEVENT
SUMMARY:Public conference in Komotini: &#8216\;The Treaty of Lausanne: 90 years later &#8211\; framing migration issues&#8217\;\, 22-23 November 2013
DESCRIPTION:
DTSTART:20131121T220000Z
DTEND:20131122T220000Z
LOCATION:Regional Hall of Events of Rhodopi (former Prefecture) Leoforos Dimokratiou 1
URL;VALUE=URI:https://www.eliamep.gr/en/event/%ce%b1%ce%bd%ce%bf%ce%b9%cf%87%cf%84%cf%8c-%cf%83%cf%85%ce%bd%ce%ad%ce%b4%cf%81%ce%b9%ce%bf-%cf%83%cf%84%ce%b7%ce%bd-%ce%ba%ce%bf%ce%bc%ce%bf%cf%84%ce%b7%ce%bd%ce%ae-%ce%b7-%cf%83%cf%85%ce%bd/
DTSTAMP:20211127T090109Z
UID:61a1f3d541f58
END:VEVENT
END:VCALENDAR