BEGIN:VCALENDAR
VERSION:2.0
PRODID:-//hacksw/handcal//NONSGML v1.0//EN
CALSCALE:GREGORIAN
BEGIN:VEVENT
SUMMARY:Public Debate: &#8216\;The New Silk Road\, OBOR and Greece&#8217\;\, 30/032016
DESCRIPTION:
DTSTART:20160330T083000Z
DTEND:20160329T210000Z
LOCATION:Ministry of Foreign Affairs (Auditorium G. Kranidiotis)
URL;VALUE=URI:https://www.eliamep.gr/en/event/%ce%b1%ce%bd%ce%bf%ce%b9%cf%87%cf%84%ce%ae-%cf%83%cf%85%ce%b6%ce%ae%cf%84%ce%b7%cf%83%ce%b7-o-%ce%bd%ce%ad%ce%bf%cf%82-%ce%b4%cf%81%cf%8c%ce%bc%ce%bf%cf%82-%cf%84%ce%bf%cf%85-%ce%bc%ce%b5%cf%84/
DTSTAMP:20211127T092013Z
UID:61a1f84d89bca
END:VEVENT
END:VCALENDAR