BEGIN:VCALENDAR
VERSION:2.0
PRODID:-//hacksw/handcal//NONSGML v1.0//EN
CALSCALE:GREGORIAN
BEGIN:VEVENT
SUMMARY:Public event: &#8220\;Greece and its Balkan Neighbours &#8211\; Strengthening economic dimensions in cross-border collaborations&#8221\;\, 27/06/2015
DESCRIPTION:
DTSTART:20150629T150000Z
DTEND:20150628T210000Z
LOCATION: Electra Palace in Thessaloniki
URL;VALUE=URI:https://www.eliamep.gr/en/event/%ce%b1%ce%bd%ce%bf%ce%b9%cf%87%cf%84%ce%ae-%cf%83%cf%85%ce%b6%ce%ae%cf%84%ce%b7%cf%83%ce%b7-h-%ce%b5%ce%bb%ce%bb%ce%ac%ce%b4%ce%b1-%ce%ba%ce%b1%ce%b9-%ce%bf%ce%b9-%ce%b2%ce%b1%ce%bb%ce%ba%ce%ac/
DTSTAMP:20211127T080907Z
UID:61a1e7a34881f
END:VEVENT
END:VCALENDAR