BEGIN:VCALENDAR
VERSION:2.0
PRODID:-//hacksw/handcal//NONSGML v1.0//EN
CALSCALE:GREGORIAN
BEGIN:VEVENT
SUMMARY:Public Debate: &#8216\;The question of Kosovo and Metohija and Serbia&#8217\;s EU accession process: The view from Belgrade&#8217\;\, 19/09/2013
DESCRIPTION:
DTSTART:20130918T210000Z
DTEND:20130918T210000Z
LOCATION:Offices of the European Parliament in Athens
URL;VALUE=URI:https://www.eliamep.gr/en/event/%ce%b1%ce%bd%ce%bf%ce%b9%cf%87%cf%84%ce%ae-%cf%83%cf%85%ce%b6%ce%ae%cf%84%ce%b7%cf%83%ce%b7-%cf%84%ce%bf-%ce%b6%ce%ae%cf%84%ce%b7%ce%bc%ce%b1-%cf%84%ce%bf%cf%85-%ce%ba%ce%bf%cf%83%cf%83%cf%85/
DTSTAMP:20211127T090113Z
UID:61a1f3d9b06ac
END:VEVENT
END:VCALENDAR