BEGIN:VCALENDAR
VERSION:2.0
PRODID:-//hacksw/handcal//NONSGML v1.0//EN
CALSCALE:GREGORIAN
BEGIN:VEVENT
SUMMARY:Public event: “Maritime Security: Differences between Europe and Asia”\, 15/01/2016
DESCRIPTION:
DTSTART:20160114T220000Z
DTEND:20160114T220000Z
LOCATION:
URL;VALUE=URI:https://www.eliamep.gr/en/event/%ce%b1%ce%bd%ce%bf%ce%b9%cf%87%cf%84%ce%ae-%cf%83%cf%85%ce%b6%ce%ae%cf%84%ce%b7%cf%83%ce%b7-%ce%b8%ce%b1%ce%bb%ce%ac%cf%83%cf%83%ce%b9%ce%b1-%ce%b1%cf%83%cf%86%ce%ac%ce%bb%ce%b5%ce%b9%ce%b1/
DTSTAMP:20211127T092009Z
UID:61a1f84940866
END:VEVENT
END:VCALENDAR