BEGIN:VCALENDAR
VERSION:2.0
PRODID:-//hacksw/handcal//NONSGML v1.0//EN
CALSCALE:GREGORIAN
BEGIN:VEVENT
SUMMARY:Public debate: &#8216\;Tackling Corruption in Greece  and in Europe&#8217\;\, 24/10/2016
DESCRIPTION:
DTSTART:20161024T070000Z
DTEND:20161024T110000Z
LOCATION:Zappeion
URL;VALUE=URI:https://www.eliamep.gr/en/event/%ce%b1%ce%bd%ce%bf%ce%b9%cf%87%cf%84%ce%ae-%cf%83%cf%85%ce%b6%ce%ae%cf%84%ce%b7%cf%83%ce%b7-%ce%b7-%ce%b1%ce%bd%cf%84%ce%b9%ce%bc%ce%b5%cf%84%cf%8e%cf%80%ce%b9%cf%83%ce%b7-%cf%84%ce%b7%cf%82/
DTSTAMP:20211127T082945Z
UID:61a1ec798f420
END:VEVENT
END:VCALENDAR