BEGIN:VCALENDAR
VERSION:2.0
PRODID:-//hacksw/handcal//NONSGML v1.0//EN
CALSCALE:GREGORIAN
BEGIN:VEVENT
SUMMARY:Public event: “Western Balkans: Back to Instability? Challenges and Prospects”\, 12/06/2015
DESCRIPTION:
DTSTART:20150612T060000Z
DTEND:20150611T210000Z
LOCATION:"Amalia" hotel\, Athens
URL;VALUE=URI:https://www.eliamep.gr/en/event/%ce%b1%ce%bd%ce%bf%ce%b9%cf%87%cf%84%ce%ae-%cf%83%cf%85%ce%b6%ce%ae%cf%84%ce%b7%cf%83%ce%b7-%ce%b4%cf%85%cf%84%ce%b9%ce%ba%ce%ac-%ce%b2%ce%b1%ce%bb%ce%ba%ce%ac%ce%bd%ce%b9%ce%b1-%ce%b5%cf%80/
DTSTAMP:20211127T091910Z
UID:61a1f80e3ef93
END:VEVENT
END:VCALENDAR