BEGIN:VCALENDAR
VERSION:2.0
PRODID:-//hacksw/handcal//NONSGML v1.0//EN
CALSCALE:GREGORIAN
BEGIN:VEVENT
SUMMARY:Public debate: &#8220\;Greek Universities: The complete makeover’’\, 13/12/2012
DESCRIPTION:
DTSTART:20121212T220000Z
DTEND:20121212T220000Z
LOCATION:Athens Concert Hall
URL;VALUE=URI:https://www.eliamep.gr/en/event/%ce%b1%ce%bd%ce%bf%ce%b9%cf%87%cf%84%ce%ae-%cf%83%cf%85%ce%b6%ce%ae%cf%84%ce%b7%cf%83%ce%b7-%ce%b3%ce%b9%ce%b1-%ce%ad%ce%bd%ce%b1-%ce%bd%ce%ad%ce%bf-%ce%b5%ce%bb%ce%bb%ce%b7%ce%bd%ce%b9%ce%ba%cf%8c/
DTSTAMP:20211127T090110Z
UID:61a1f3d658abe
END:VEVENT
END:VCALENDAR