BEGIN:VCALENDAR
VERSION:2.0
PRODID:-//hacksw/handcal//NONSGML v1.0//EN
CALSCALE:GREGORIAN
BEGIN:VEVENT
SUMMARY:Public debate: &#8216\;Crisis and the Financial Sector: Developments and Prospects in Greece and Europe\, 17/06/2013
DESCRIPTION:
DTSTART:20130617T150000Z
DTEND:20130616T210000Z
LOCATION: Domotel Les Lazaristes hotel
URL;VALUE=URI:https://www.eliamep.gr/en/event/%ce%b1%ce%bd%ce%bf%ce%b9%cf%87%cf%84%ce%ae-%ce%b5%ce%ba%ce%b4%ce%ae%ce%bb%cf%89%cf%83%ce%b7-%cf%87%cf%81%ce%b7%ce%bc%ce%b1%cf%84%ce%bf%cf%80%ce%b9%cf%83%cf%84%cf%89%cf%84%ce%b9%ce%ba/
DTSTAMP:20211127T090100Z
UID:61a1f3cc28f78
END:VEVENT
END:VCALENDAR