BEGIN:VCALENDAR
VERSION:2.0
PRODID:-//hacksw/handcal//NONSGML v1.0//EN
CALSCALE:GREGORIAN
BEGIN:VEVENT
SUMMARY:Public event: &#8216\;The prospects of exiting the crisis: could 2013 mark the beginning of the road to recovery?&#8217\;\, 25/04/2013
DESCRIPTION:
DTSTART:20130425T160000Z
DTEND:20130424T210000Z
LOCATION:Athens Chamber of Commerce and Industry (7\, Akadimias str.\, 6th floor)
URL;VALUE=URI:https://www.eliamep.gr/en/event/%ce%b1%ce%bd%ce%bf%ce%b9%cf%87%cf%84%ce%ae-%ce%b5%ce%ba%ce%b4%ce%ae%ce%bb%cf%89%cf%83%ce%b7-%ce%bf%ce%b9-%cf%80%cf%81%ce%bf%ce%bf%cf%80%cf%84%ce%b9%ce%ba%ce%ad%cf%82-%ce%b5%ce%be%cf%8c%ce%b4/
DTSTAMP:20211127T090106Z
UID:61a1f3d256029
END:VEVENT
END:VCALENDAR