BEGIN:VCALENDAR
VERSION:2.0
PRODID:-//hacksw/handcal//NONSGML v1.0//EN
CALSCALE:GREGORIAN
BEGIN:VEVENT
SUMMARY:Open Discussion titled: “Civil Society and the role of young people in the European Elections”
DESCRIPTION:
DTSTART:20190517T143000Z
DTEND:20190517T170000Z
LOCATION:Office of the European Parliament in Greece (8 Amalias Ave.)
URL;VALUE=URI:https://www.eliamep.gr/en/event/%ce%b1%ce%bd%ce%bf%ce%b9%cf%87%cf%84%ce%ae-%ce%b5%ce%ba%ce%b4%ce%ae%ce%bb%cf%89%cf%83%ce%b7-%ce%bc%ce%b5-%ce%b8%ce%ad%ce%bc%ce%b1-%ce%b7-%ce%ba%ce%bf%ce%b9%ce%bd%cf%89%ce%bd%ce%af%ce%b1-%cf%84/
DTSTAMP:20211127T081119Z
UID:61a1e8278ee2e
END:VEVENT
END:VCALENDAR