BEGIN:VCALENDAR
VERSION:2.0
PRODID:-//hacksw/handcal//NONSGML v1.0//EN
CALSCALE:GREGORIAN
BEGIN:VEVENT
SUMMARY:Public debate: Success stories of integration in Greek and Dutch Society\, 14/02/2012
DESCRIPTION:
DTSTART:20120213T220000Z
DTEND:20120213T220000Z
LOCATION:European Parliament Office in Athens
URL;VALUE=URI:https://www.eliamep.gr/en/event/%ce%b1%ce%bd%ce%bf%ce%b9%cf%87%cf%84%ce%ae-%ce%b5%ce%ba%ce%b4%ce%ae%ce%bb%cf%89%cf%83%ce%b7-%ce%b5%ce%bc%cf%80%ce%b5%ce%b9%cf%81%ce%af%ce%b5%cf%82-%ce%b5%cf%80%ce%b9%cf%84%cf%85%cf%87%ce%b7%ce%bc/
DTSTAMP:20211127T090107Z
UID:61a1f3d3549b2
END:VEVENT
END:VCALENDAR