BEGIN:VCALENDAR
VERSION:2.0
PRODID:-//hacksw/handcal//NONSGML v1.0//EN
CALSCALE:GREGORIAN
BEGIN:VEVENT
SUMMARY:Article by Dr Evangelos Venetis on Libya published in Kathimerini\, 19/02/2015
DESCRIPTION:
DTSTART:20150218T220000Z
DTEND:20150218T220000Z
LOCATION:
URL;VALUE=URI:https://www.eliamep.gr/en/event/%ce%ac%cf%81%ce%b8%cf%81%ce%bf-%cf%84%ce%bf%cf%85-%ce%b4%cf%81%ce%bf%cf%82-%ce%b5%cf%85%ce%ac%ce%b3%ce%b3%ce%b5%ce%bb%ce%bf%cf%85-%ce%b2%ce%b5%ce%bd%ce%ad%cf%84%ce%b7-%cf%83%cf%84%ce%b7%ce%bd-%ce%ba/
DTSTAMP:20211127T094754Z
UID:61a1feca81532
END:VEVENT
END:VCALENDAR