BEGIN:VCALENDAR
VERSION:2.0
PRODID:-//hacksw/handcal//NONSGML v1.0//EN
CALSCALE:GREGORIAN
BEGIN:VEVENT
SUMMARY:Article by Dr Evangelos Venetis on the West and Islam published in Kathimerini\, 19/01/2015
DESCRIPTION:
DTSTART:20150118T220000Z
DTEND:20150118T220000Z
LOCATION:
URL;VALUE=URI:https://www.eliamep.gr/en/event/%ce%ac%cf%81%ce%b8%cf%81%ce%bf-%cf%84%ce%bf%cf%85-%ce%b4%cf%81%ce%bf%cf%82-%ce%b5%cf%85%ce%ac%ce%b3%ce%b3%ce%b5%ce%bb%ce%bf%cf%85-%ce%b2%ce%b5%ce%bd%ce%ad%cf%84%ce%b7-%cf%83%cf%84%ce%b7%ce%bd-%ce%ba-3/
DTSTAMP:20211127T094741Z
UID:61a1febdd697b
END:VEVENT
END:VCALENDAR